BEGIN:VCALENDAR
VERSION:2.0
PRODID:gruene-nordwalde.de
METHOD:PUBLISH
BEGIN:VTIMEZONE
TZID:Europe/Berlin
X-LIC-LOCATION:Europe/Berlin
BEGIN:DAYLIGHT
TZOFFSETFROM:+0100
TZOFFSETTO:+0200
TZNAME:CEST
DTSTART:19700329T020000
RRULE:FREQ=YEARLY;INTERVAL=1;BYDAY=-1SU;BYMONTH=3
END:DAYLIGHT
BEGIN:STANDARD
TZOFFSETFROM:+0200
TZOFFSETTO:+0100
TZNAME:CET
DTSTART:19701025T030000
RRULE:FREQ=YEARLY;INTERVAL=1;BYDAY=-1SU;BYMONTH=10
END:STANDARD
END:VTIMEZONE
BEGIN:VEVENT
UID:d59f49038b17d7aeac36fe89d25e796d@gruene-nordwalde.de
URL;VALUE=URI:https://gruene-nordwalde.de/termine/4-wahlstand/
LOCATION:Bahnhof - 
SUMMARY:4. Wahlstand
DESCRIPTION;ALTREP="data:text/html,Nur%20Flyer":Nur Flyer
CLASS:PUBLIC
DTSTART;TZID=Europe/Berlin:20210924T060000
DTEND;TZID=Europe/Berlin:20210924T090000
DTSTAMP:20260419T233430
END:VEVENT
END:VCALENDAR