BEGIN:VCALENDAR
VERSION:2.0
PRODID:gruene-nordwalde.de
METHOD:PUBLISH
BEGIN:VTIMEZONE
TZID:Europe/Berlin
X-LIC-LOCATION:Europe/Berlin
BEGIN:DAYLIGHT
TZOFFSETFROM:+0100
TZOFFSETTO:+0200
TZNAME:CEST
DTSTART:19700329T020000
RRULE:FREQ=YEARLY;INTERVAL=1;BYDAY=-1SU;BYMONTH=3
END:DAYLIGHT
BEGIN:STANDARD
TZOFFSETFROM:+0200
TZOFFSETTO:+0100
TZNAME:CET
DTSTART:19701025T030000
RRULE:FREQ=YEARLY;INTERVAL=1;BYDAY=-1SU;BYMONTH=10
END:STANDARD
END:VTIMEZONE
BEGIN:VEVENT
UID:3cc6c13a1afdb0a522603c3754737151@gruene-nordwalde.de
URL;VALUE=URI:https://gruene-nordwalde.de/termine/vorbereitungen-kommualw
 ahl/
LOCATION:grün!, Emsdettener Str. 3, Nordwalde
SUMMARY:Vorbereitungen Kommunalwahl
DESCRIPTION;ALTREP="data:text/html,%0A%3Cp%3EWir%20treffen%20uns%20um%20d
 ie%20weiteren%20Aktionen%20und%20Aufgaben%20zu%20besprechen%20und%20Veran
 twortlichkeiten%20zu%20kl%C3%A4ren.%3C%2Fp%3E%0A":Wir treffen uns um die 
 weiteren Aktionen und Aufgaben zu besprechen und Verantwortlichkeiten zu 
 klären.
CLASS:PUBLIC
DTSTART;TZID=Europe/Berlin:20250716T180000
DTEND;TZID=Europe/Berlin:20250716T200000
DTSTAMP:20260419T224036
END:VEVENT
END:VCALENDAR